Workbook
Name ACTIVOS: [1]PATRIMONIO!$A$1:$C$25
Name ESF: [1]ESF!$D$4:$L$32
Name INGRESOS: [1]INGRESOS!$A$1:$C$25
Name PAT: [1]ACTIVO!$A$1:$C$25
Name RESUL: [1]RESULTADOS!$C$3:$T$31
Name RESULECO: [1]RESULECO!$A$1:$C$25
Name RESULFIN: [1]RESULFIN!$A$1:$C$25

Sheet OPCION 1
B5: Ficha de Seguimiento de Metas del Plan Sectorial XXX
B7: SECCIÓN 1: INFORMACIÓN GENERAL DE LA ENTIDAD
B9: Gabinete Sectorial
B10: Entidad Rectora
B11: Entidad responsable de la meta sectorial
B14: SECCIÓN 2: ALINEACIÓN CONFORME A LA FICHA DE METAS SECTORIALES AL PND
B16: Meta del Plan Sectorial
B17: Eje PND:
B18: Objetivo PND
B19: Política PND
B20: Meta PND
B21: Indicador PND
... B23: Meta ODS:
C25: Seleccione con una X si la meta se encuentra adicional en alguno de los siguientes instrumentos de planificación:
C27: Plan Nacional de Desarrollo | F27: Planificación Instiucional
B30: SECCIÓN 3: RESULTADOS DE LA META
C32: Naturaleza de meta:
C33: Unidad de medida:
D36: Año | E36: Meta | F36: Resultado
D37: Línea base
D38: 2021
D39: 2022
D40: 2023
D41: 2024
D42: 2025
B44: SECCIÓN 4: ACCIONES, LOGROS, Y NUDOS CRÍTICOS
B46: Acciones para cumplimiento de meta sectorial 20XX
B47: Nro. | C47: 1) Acción (Máx. 30 palabras) (verbo infinitivo+actividad, bien o servicio+propósito ) | E47: 2) Descripción de la Acción (Máx. 100 palabras) | I47: 3) Tipo/categoría de la Acción | K47: 4) Resultado obtenido (Número + unidad de medida)
B48: 1.
B49: 2.
B50: …
B51: n.
B54: Nudos Críticos para cumplimiento de meta sectorial 20XX
B55: Nro. | C55: 5) Nudo Crítico (Máx. 30 palabras) (Limitación + afección + objeto afectado) | E55: 6) Descripción del nudo crítico (Máx. 100 palabras) | K55: 7) Tipo/categoría del Nudo crítico
B56: 1.
B57: 2.
B58: …
B59: n.
B63: Logros para cumplimiento de meta 20XX
B64: Nro. | C64: 8) Logro (Máx. 30 palabras) (Sustantivo + Acción del logro) | G64: 9) Beneficiarios / Impacto Periodicidad + Resultado + Unidad de medida + Cómo (acción) | K64: Dónde (Ubicación) (Provincia, Ciudad)
...

Sheet OPCION 2
B5: Ficha de Seguimiento de Metas del Plan Sectorial XXX
B7: SECCIÓN 1: INFORMACIÓN GENERAL DE LA ENTIDAD
B9: Gabinete Sectorial
B10: Entidad Rectora
B12: SECCIÓN 2: LOGROS
B14: Año 20XX
B15: Institución responsable de la meta | C15: Nombre de la Meta del Plan Sectorial | E15: Perternece a PND / PI | F15: Meta PS | G15: Avance/Resultado | H15: LOGROS (Máx. 30 palabras) (verbo infinitivo+actividad, bien o servicio+propósito )
C16: Meta 1
C17: Meta 2
C18: Meta 3
C19: Meta 4
C20: Meta 5
B23: SECCIÓN 3: ACCIONES
B25: Año 20XX
B26: Institución responsable de la meta | C26: Nombre de la Meta del Plan Sectorial | D26: Perternece a PND / PI | E26: Tipo/categoría de la Acción | F26: Meta PS | G26: Avance/Resultado | H26: Acciones (Máx. 30 palabras) (verbo infinitivo+actividad, bien o servicio+propósito )
C27: Meta 1
C28: Meta 2
C29: Meta 3
C30: Meta 4
C31: Meta 5
B34: SECCIÓN 4: NUDOS CRÍTICOS
B36: Año 20XX
B37: Institución responsable de la meta | C37: Nombre de la Meta del Plan Sectorial | D37: Perternece a PND / PI | E37: Tipo/categoría del Nudo CrÍtico | F37: Meta PS | G37: Avance/Resultado | H37: Nudos CrÍticos (Máx. 30 palabras) (Nudo Crítico + afección + objeto afectado)
C38: Meta 1
C39: Meta 2
C40: Meta 3
C41: Meta 4
C42: Meta 5
B45: SECCIÓN 5: FIRMAS DE RESPONSABILIDAD
B47: Firmas de Responsabilidad
B48: Elaborado por: | E48: Validado por: | H48: Aprobado por:
B56: Nombres y Apellidos: Cargo: Director(a) | E56: Nombres y Apellidos: Cargo: Coordinador(a) | H56: Nombres y Apellidos: Cargo: Ministro(a)

Sheet Reporte de metas ajustada A (3)
B5: Ficha de Seguimiento de Metas del Plan Sectorial XXX
B7: SECCIÓN 1: INFORMACIÓN GENERAL DE LA ENTIDAD
B9: Gabinete Sectorial
B10: Entidad Rectora
C12: Seleccione con una x si la meta se encuentra adicional en alguno de los siguientes instrumentos de planificación:
C13: Plan Nacional de Desarrollo | D13: x | F13: Planificación Instiucional | G13: x
B17: SECCIÓN 2: LOGROS
B18: Año 2024
B19: Institución responsable de la meta | C19: Nombre del Indicador | D19: Periodicidad | E19: Tipo de meta: | F19: Unidad de Medida | G19: Objetivo PND | H19: Politica PND | I19: Meta PND | J19: Eje PND | K19: Meta PS | L19: Avance/Resultado | M19: Logros (Sustantivo + Acción del logro)
C20: Indicador 1 | G20: OBJ 5 | H20: P5.1 | I20: M8. 2 | J20: Social
C21: Indicador 2 | G21: OBJ 5 | H21: P5.1 | I21: M8. 2 | J21: Social
C22: Indicador 3 | G22: OBJ 5 | H22: P5.1 | I22: M8. 2 | J22: Social
C23: Indicador 4 | G23: OBJ 5 | H23: P5.1 | I23: M8. 2 | J23: Social
C24: Indicador 5 | G24: OBJ 6 | H24: P6.1 | I24: M8. 2 | J24: Social
B27: Año 2025
B28: Institución responsable de la meta | C28: Nombre del Indicador | D28: Periodicidad | E28: Tipo de meta: | F28: Unidad de Medida | G28: Objetivo PND | H28: Politica PND | I28: Meta PND | J28: Eje PND | K28: Meta PS | L28: Avance/Resultado | M28: Logros (Sustantivo + Acción del logro)
C29: Indicador 1 | G29: OBJ 5 | H29: P5.1 | I29: M8. 2 | J29: Social
C30: Indicador 2 | G30: OBJ 5 | H30: P5.1 | I30: M8. 2 | J30: Social
C31: Indicador 3 | G31: OBJ 5 | H31: P5.1 | I31: M8. 2 | J31: Social
C32: Indicador 4 | G32: OBJ 5 | H32: P5.1 | I32: M8. 2 | J32: Social
C33: Indicador 5 | G33: OBJ 6 | H33: P6.1 | I33: M8. 2 | J33: Social
B36: SECCIÓN 3: ACCIONES
B38: Año 2024
B39: Institución responsable de la meta | C39: Nombre del Indicador | D39: Periodicidad | E39: Tipo de meta: | F39: Unidad de Medida | G39: Objetivo PND | H39: Politica PND | I39: Meta PND | J39: Eje PND | K39: Tipo/categoría de la Acción | L39: Meta PS | M39: Avance/Resultado | N39: Nudos Criticos (Máx. 30 palabras) (Limitación + afección + objeto afectado) | O39: Acciones (Máx. 30 palabras) (verbo infinitivo+actividad, bien o servicio+propósito )
C40: Indicador 1 | G40: OBJ 5 | H40: P5.1 | I40: M8. 2 | J40: Social
C41: Indicador 2 | G41: OBJ 5 | H41: P5.1 | I41: M8. 2 | J41: Social
C42: Indicador 3 | G42: OBJ 5 | H42: P5.1 | I42: M8. 2 | J42: Social
C43: Indicador 4 | G43: OBJ 5 | H43: P5.1 | I43: M8. 2 | J43: Social
C44: Indicador 5 | G44: OBJ 6 | H44: P6.1 | I44: M8. 2 | J44: Social
B47: Año 2025
B48: Institución responsable de la meta | C48: Nombre del Indicador | D48: Periodicidad | E48: Tipo de meta: | F48: Unidad de Medida | G48: Objetivo PND | H48: Politica PND | I48: Meta PND | J48: Eje PND | K48: Tipo/categoría de la Acción | L48: Meta PS | M48: Avance/Resultado | N48: Nudos Criticos (Máx. 30 palabras) (Limitación + afección + objeto afectado) | O48: Acciones (Máx. 30 palabras) (verbo infinitivo+actividad, bien o servicio+propósito )
C49: Indicador 1 | G49: OBJ 5 | H49: P5.1 | I49: M8. 2 | J49: Social
C50: Indicador 2 | G50: OBJ 5 | H50: P5.1 | I50: M8. 2 | J50: Social
C51: Indicador 3 | G51: OBJ 5 | H51: P5.1 | I51: M8. 2 | J51: Social
C52: Indicador 4 | G52: OBJ 5 | H52: P5.1 | I52: M8. 2 | J52: Social
C53: Indicador 5 | G53: OBJ 6 | H53: P6.1 | I53: M8. 2 | J53: Social
B56: SECCIÓN 3: NUDOS CRITICOS
B59: Año 2024
B60: Institución responsable de la meta | C60: Nombre del Indicador | D60: Periodicidad | E60: Tipo de meta: | F60: Unidad de Medida | G60: Objetivo PND | H60: Politica PND | I60: Meta PND | J60: Eje PND | K60: Tipo/categoría de la Acción | L60: Meta PS | M60: Avance/Resultado | N60: Nudos Criticos (Máx. 30 palabras) (Limitación + afección + objeto afectado) | O60: Acciones (Máx. 30 palabras) (verbo infinitivo+actividad, bien o servicio+propósito )
C61: Indicador 1 | G61: OBJ 5 | H61: P5.1 | I61: M8. 2 | J61: Social
...

Sheet OPCION 2.1 (2)
B5: Ficha de Seguimiento del Plan Institucional
B7: Periodo de Seguimiento
B9: SECCIÓN 1: INFORMACIÓN GENERAL DE LA ENTIDAD
B11: Nombre de la Entidad
B12: Gabinete Sectorial | D12: =IFERROR(VLOOKUP($D$11,'ESTADO ACT 31 DIC 2024 (2)'!C1:D189,2,FALSE),"")
B14: SECCIÓN 2: SEGUIMIENTO CUALITATIVO
B16: Nombre OEI 1
B18: Nombre del Indicador | E18: Logros (Máx. 60 palabras) Logro (Periodicidad + Resultado de mejora + Unidad de medida + Cómo/acción + Dónde/Ubicación )
B19: Ind 1
B20: Ind 2
B21: Ind 3
B22: Ind n
B24: Nudos Críticos | I24: Plan de Acción
B25: Nombre de Indicador | D25: Nudos CrÍticos (Máx. 60 palabras) (Nudo Crítico + afección + objeto afectado) | H25: Tipo/categoría del Nudo CrÍtico | I25: Acciones preventivas / acción correctiva | N25: Estado | O25: Responsable | P25: Fecha de Cumplimiento
B26: Ind 1
B27: Ind 2
B28: Ind 3
B29: Ind n
B32: Nombre OEI 2
B34: Nombre de Indicador | E34: Logros (Máx. 60 palabras) Logro (Periodicidad + Resultado de mejora + Unidad de medida + Cómo/acción + Dónde/Ubicación )
B35: Ind 1
B36: Ind 2
B37: Ind 3
B38: Ind n
B40: Nudos Críticos | I40: Plan de Acción
B41: Nombre de Indicador | D41: Nudos CrÍticos (Máx. 60 palabras) (Nudo Crítico + afección + objeto afectado) | H41: Tipo/categoría del Nudo CrÍtico | I41: Acciones preventivas / acción correctiva | N41: Estado | O41: Responsable | P41: Fecha de Cumplimiento
B42: Ind 1
B43: Ind 2
B44: Ind 3
B45: Ind n
B48: Nombre OEI n
B50: Nombre de Indicador | E50: Logros (Máx. 60 palabras) Logro (Periodicidad + Resultado de mejora + Unidad de medida + Cómo/acción + Dónde/Ubicación )
B51: Ind 1
B52: Ind 2
B53: Ind 3
B54: Ind n
B56: Nudos Críticos | I56: Plan de Acción
B57: Nombre de Indicador | D57: Nudos CrÍticos (Máx. 60 palabras) (Nudo Crítico + afección + objeto afectado) | H57: Tipo/categoría del Nudo CrÍtico | I57: Acciones preventivas / acción correctiva | N57: Estado | O57: Responsable | P57: Fecha de Cumplimiento
B58: Ind 1
B59: Ind 2
...

Sheet OPCION 2.1
B5: Ficha de Seguimiento del Plan Institucional 2025
B7: SECCIÓN 1: INFORMACIÓN GENERAL DE LA ENTIDAD
B10: Nombre de la Entidad
B11: Gabinete Sectorial | D11: =IFERROR(VLOOKUP($D$10,'ESTADO ACT 31 DIC 2024 (2)'!C2:D190,2,FALSE),"")
B15: SECCIÓN 2: ACCIONES/LOGROS
B17: Nombre del Objetivo Institucional | F17: Nombre de Indicador | K17: Acciones / Logros (Máx. 60 palabras) Acción (verbo infinitivo + actividad, bien o servicio) Logro (Periodicidad + Resultado de mejora + Unidad de medida + Cómo/acción + Dónde/Ubicación ) | P17: Tipo/categoría de la Acción
B18: OEI 1 | F18: Ind 1
B19: OEI 1 | F19: Ind n
B20: OEI 2 | F20: Ind 1
B21: OEI 2 | F21: Ind n
B22: OEI 3 | F22: Ind 1
B23: OEI 3 | F23: Ind n
B24: OEI n | F24: Ind n
B27: SECCIÓN 3: NUDOS CRÍTICOS
J28: Plan de Acción
B29: Nombre de Indicador | D29: Tipo/categoría del Nudo CrÍtico | E29: Nudos CrÍticos o Limitación (Máx. 60 palabras) (Nudo Crítico + afección + objeto afectado) | I29: Acciones preventivas | L29: Acciones Correctivas | N29: Estado | O29: Responsable | P29: Fecha de Cumplimiento
B30: Ind 1
B31: Ind 2
B32: Ind 3
B33: Ind n
B38: SECCIÓN 4: FIRMAS DE RESPONSABILIDAD
B40: Firmas de Responsabilidad
B41: Elaborado por: | G41: Validado por: | N41: Aprobado por:
B49: Nombres y Apellidos: Cargo: Director(a) | G49: Nombres y Apellidos: Cargo: Coordinador(a) | N49: Nombres y Apellidos: Cargo: Ministro(a)

Sheet ESTADO ACT 31 DIC 2024 (2)
A1: ENT_RUC | B1: PGE | C1: Columna1 | D1: GABINETE | I1: ESTADO
A2: 1768184680001 | B2: SI | C2: Agencia de Aseguramiento de la Calidad de Servicios de Salud y Medicina Prepagada Acess | D2: Gabinete Sectorial de lo Social | I2: =ISNUMBER(SEARCH('OPCION 2.1'!$D$10,ENTIDADES[Columna1])) -> TRUE
A3: 1768181070001 | B3: SI | C3: Agencia de Regulacion y Control de Electricidad Arconel | D3: Gabinete Sectorial de Infraestructura, Energia y Medio Ambiente | I3: =ISNUMBER(SEARCH('OPCION 2.1'!$D$10,ENTIDADES[Columna1])) -> TRUE
A4: 1768193080001 | B4: SI | C4: Agencia de Regulacion y Control de Energia y Recursos Naturales No Renovables | D4: Gabinete Sectorial de Infraestructura, Energia y Medio Ambiente | I4: =ISNUMBER(SEARCH('OPCION 2.1'!$D$10,ENTIDADES[Columna1])) -> TRUE
A5: 1768168210001 | B5: SI | C5: Agencia de Regulación y Control de la Bioseguridad y Cuarentena para Galápagos | D5: Gabinete Sectorial de Infraestructura, Energia y Medio Ambiente | I5: =ISNUMBER(SEARCH('OPCION 2.1'!$D$10,ENTIDADES[Columna1])) -> TRUE
A6: 1768181900001 | B6: SI | C6: Agencia de Regulación y Control de las Telecomunicaciones Arcotel | D6: Gabinete Sectorial de Infraestructura, Energia y Medio Ambiente | I6: =ISNUMBER(SEARCH('OPCION 2.1'!$D$10,ENTIDADES[Columna1])) -> TRUE
A7: 1768178790001 | B7: SI | C7: Agencia de Regulacion y Control del Agua Arca | D7: Gabinete Sectorial de Infraestructura, Energia y Medio Ambiente | I7: =ISNUMBER(SEARCH('OPCION 2.1'!$D$10,ENTIDADES[Columna1])) -> TRUE
A8: 1768188830001 | B8: SI | C8: Agencia de Regulación y Control Fito y Zoosanitario | D8: Gabinete Sectorial de Infraestructura, Energia y Medio Ambiente | I8: =ISNUMBER(SEARCH('OPCION 2.1'!$D$10,ENTIDADES[Columna1])) -> TRUE
A9: 1768158680001 | B9: SI | C9: Agencia de Regulacion y Control Hidrocarburifero Arch | D9: Gabinete Sectorial de Infraestructura, Energia y Medio Ambiente | I9: =ISNUMBER(SEARCH('OPCION 2.1'!$D$10,ENTIDADES[Columna1])) -> TRUE
A10: 1768155150001 | B10: SI | C10: Agencia de Regulacion y Control Minero-Arcom | D10: Gabinete Sectorial de Infraestructura, Energia y Medio Ambiente | I10: =ISNUMBER(SEARCH('OPCION 2.1'!$D$10,ENTIDADES[Columna1])) -> TRUE
A11: 1768169530001 | B11: SI | C11: Agencia Nacional de Regulación Control y Vigilancia Sanitaria Arcsa | D11: Gabinete Sectorial de lo Social | I11: =ISNUMBER(SEARCH('OPCION 2.1'!$D$10,ENTIDADES[Columna1])) -> TRUE
A12: 1768159650001 | B12: SI | C12: Agencia Nacional de Regulación y Control de Transporte Terrestre Tránsito y Seguridad Vial (Ant) | D12: Gabinete Sectorial de Infraestructura, Energia y Medio Ambiente | I12: =ISNUMBER(SEARCH('OPCION 2.1'!$D$10,ENTIDADES[Columna1])) -> TRUE
A13: 1760000150001 | B13: SI | C13: Asamblea Nacional | D13: Sin Gabinete | I13: =ISNUMBER(SEARCH('OPCION 2.1'!$D$10,ENTIDADES[Columna1])) -> TRUE
... A160: 1768192270001 | B160: SI | C160: Unidad del Registro Social | D160: Gabinete Sectorial de lo Social | I160: =ISNUMBER(SEARCH('OPCION 2.1'!$D$10,ENTIDADES[Columna1])) -> TRUE
A161: 998610354001 | B161: SI | C161: Unidad Nacional Antidopaje del Ecuador - Unade | D161: Gabinete Sectorial de lo Social | I161: =ISNUMBER(SEARCH('OPCION 2.1'!$D$10,ENTIDADES[Columna1])) -> TRUE
A162: 0960005610001 | B162: SI | C162: Universidad Agraria del Ecuador | D162: Sin Gabinete | I162: =ISNUMBER(SEARCH('OPCION 2.1'!$D$10,ENTIDADES[Columna1])) -> TRUE
A163: 1760005540001 | B163: SI | C163: Universidad Central del Ecuador | D163: Sin Gabinete | I163: =ISNUMBER(SEARCH('OPCION 2.1'!$D$10,ENTIDADES[Columna1])) -> TRUE
A164: 0160001240001 | B164: SI | C164: Universidad de Cuenca | D164: Sin Gabinete | I164: =ISNUMBER(SEARCH('OPCION 2.1'!$D$10,ENTIDADES[Columna1])) -> TRUE
A165: 0960002510001 | B165: SI | C165: Universidad de Guayaquil | D165: Sin Gabinete | I165: =ISNUMBER(SEARCH('OPCION 2.1'!$D$10,ENTIDADES[Columna1])) -> TRUE
A166: 1768176820001 | B166: SI | C166: Universidad de Investigación de Tecnología Experimental Yachay | D166: Sin Gabinete | I166: =ISNUMBER(SEARCH('OPCION 2.1'!$D$10,ENTIDADES[Columna1])) -> TRUE
A167: 0968604120001 | B167: SI | C167: Universidad de las Artes | D167: Sin Gabinete | I167: =ISNUMBER(SEARCH('OPCION 2.1'!$D$10,ENTIDADES[Columna1])) -> TRUE
A168: 1768007390001 | B168: SI | C168: Universidad de las Fuerzas Armadas - Espe | D168: Sin Gabinete | I168: =ISNUMBER(SEARCH('OPCION 2.1'!$D$10,ENTIDADES[Columna1])) -> TRUE
A169: 1798194891001 | B169: SI | C169: Universidad de Seguridad Ciudadana y Ciencias Policiales Usecipol | D169: Sin Gabinete | I169: =ISNUMBER(SEARCH('OPCION 2.1'!$D$10,ENTIDADES[Columna1])) -> TRUE
A170: 1660012180001 | B170: SI | C170: Universidad Estatal Amazonica | D170: Sin Gabinete | I170: =ISNUMBER(SEARCH('OPCION 2.1'!$D$10,ENTIDADES[Columna1])) -> TRUE
A171: 0260000920001 | B171: SI | C171: Universidad Estatal de Bolivar | D171: Sin Gabinete | I171: =ISNUMBER(SEARCH('OPCION 2.1'!$D$10,ENTIDADES[Columna1])) -> TRUE
A172: 0968533430001 | B172: SI | C172: Universidad Estatal de Milagro | D172: Sin Gabinete | I172: =ISNUMBER(SEARCH('OPCION 2.1'!$D$10,ENTIDADES[Columna1])) -> TRUE
A173: 1360031350001 | B173: SI | C173: Universidad Estatal del Sur de Manabi | D173: Sin Gabinete | I173: =ISNUMBER(SEARCH('OPCION 2.1'!$D$10,ENTIDADES[Columna1])) -> TRUE
... A190: 1760000580001 | B190: SI | C190: Vicepresidencia de la Republica | D190: Sin Gabinete | I190: =ISNUMBER(SEARCH('OPCION 2.1'!$D$10,ENTIDADES[Columna1])) -> TRUE

Sheet Ficha Plan de Acción A2
C6: Ficha de Plan de Acción
D7: Periodo XXXX trimestre - 20XX
C9: SECCIÓN 1: INFORMACIÓN GENERAL DE LA ENTIDAD
C11: Gabinete Sectorial
C12: Entidad
C13: Entidad responsable de la meta sectorial
C16: SECCIÓN 2: ALINEACIÓN CONFORME A LA FICHA DE METAS SECTORIALES AL PS
C18: Meta del Plan Sectorial
C19: Eje PND
C20: Objetivo PND
C21: Política PND
C22: Meta PND
C23: Indicador PND
C24: Obj ODS
... C36: Descripción nudo crítico
D37: Acciones Correctivas
D38: 1) Acción correctiva | F38: 2) Categoría | G38: 3) Responsable | I38: 4) Estado | K38: 5) Fecha inicio | L38: 6) Fecha fin
D39: Acción correctiva 1 | G39: Unidad Operativa 1 | I39: En proceso
D40: Acción correctiva 2 | G40: Unidad Operativa 2 | I40: Cumplido
D41: Acción correctiva 3 | G41: Unidad Operativa 3 | I41: Pendiente
D42: Acciones Preventivas
D43: 7) Acción preventiva | F43: 8) Categoría | G43: 9) Responsable | I43: 10) Estado | K43: 11) Fecha inicio | L43: 12) Fecha fin
D44: Acción preventiva 1 | G44: Unidad Operativa 1 | I44: En proceso
D45: Acción preventiva 2 | G45: Unidad Operativa 2 | I45: Cumplido
D46: Acción preventiva 3 | G46: Unidad Operativa 3 | I46: Pendiente
C49: Nro.
C50: Categoría
C51: Descripción nudo crítico
D52: Acciones Correctivas
D53: 1) Acción correctiva | F53: 2) Categoría | G53: 3) Responsable | I53: 4) Estado | K53: 5) Fecha inicio | L53: 6) Fecha fin
D54: Acción correctiva 1 | G54: Unidad Operativa 1 | I54: En proceso
D55: Acción correctiva 2 | G55: Unidad Operativa 2 | I55: Cumplido
D56: Acción correctiva 3 | G56: Unidad Operativa 3 | I56: Pendiente
D57: Acciones Preventivas
D58: 7) Acción preventiva | F58: 8) Categoría | G58: 9) Responsable | I58: 10) Estado | K58: 11) Fecha inicio | L58: 12) Fecha fin
D59: Acción preventiva 1 | G59: Unidad Operativa 1 | I59: En proceso
D60: Acción preventiva 2 | G60: Unidad Operativa 2 | I60: Cumplido
D61: Acción preventiva 3 | G61: Unidad Operativa 3 | I61: Pendiente
C64: SECCIÓN 4: FIRMAS DE RESPONSABILIDAD
C66: Firmas de Responsabilidad
...
